BEGIN:VCALENDAR
VERSION:2.0
PRODID:-//Hope &amp; Main - ECPv6.14.2//NONSGML v1.0//EN
CALSCALE:GREGORIAN
METHOD:PUBLISH
X-ORIGINAL-URL:https://www.makefoodyourbusiness.org
X-WR-CALDESC:Events for Hope &amp; Main
REFRESH-INTERVAL;VALUE=DURATION:PT1H
X-Robots-Tag:noindex
X-PUBLISHED-TTL:PT1H
BEGIN:VTIMEZONE
TZID:UTC
BEGIN:STANDARD
TZOFFSETFROM:+0000
TZOFFSETTO:+0000
TZNAME:UTC
DTSTART:20260101T000000
END:STANDARD
END:VTIMEZONE
BEGIN:VEVENT
DTSTART;TZID=UTC:20260512T080000
DTEND;TZID=UTC:20260512T170000
DTSTAMP:20260425T160025
CREATED:20241118T170820Z
LAST-MODIFIED:20260401T153603Z
UID:10000461-1778572800-1778605200@www.makefoodyourbusiness.org
SUMMARY:Food Safety Manager Certification (ServSafe) 2026
DESCRIPTION:Our ServSafe Food Safety Manager certification class is an 8-hour course designed to teach kitchen users how to properly produce food in a manner that is safe for public consumption. This course culminates with a competency exam and certification upon passing. \nThis certification is ideal for individuals working in food service management\, and is required for Hope & Main membership. \nCLICK HERE TO REGISTER \nOpen to public. Admission includes book. Please bring a laptop to class for the exam portion of the course.  This event will take place in person at Hope & Main.  The class size is limited; please respect others by staying home if you are sick or experiencing symptoms.
URL:https://www.makefoodyourbusiness.org/event/food-safety-manager-certification-servsafe/2026-05-12/
LOCATION:Hope & Main 691 Main St\, Warren\, RI\, United States
ATTACH;FMTTYPE=image/jpeg:https://www.makefoodyourbusiness.org/wp-content/uploads/2024/11/cooking-fish-cakes-small.jpeg
END:VEVENT
BEGIN:VEVENT
DTSTART;TZID=UTC:20260609T080000
DTEND;TZID=UTC:20260609T170000
DTSTAMP:20260425T160025
CREATED:20241118T170820Z
LAST-MODIFIED:20260401T153603Z
UID:10000462-1780992000-1781024400@www.makefoodyourbusiness.org
SUMMARY:Food Safety Manager Certification (ServSafe) 2026
DESCRIPTION:Our ServSafe Food Safety Manager certification class is an 8-hour course designed to teach kitchen users how to properly produce food in a manner that is safe for public consumption. This course culminates with a competency exam and certification upon passing. \nThis certification is ideal for individuals working in food service management\, and is required for Hope & Main membership. \nCLICK HERE TO REGISTER \nOpen to public. Admission includes book. Please bring a laptop to class for the exam portion of the course.  This event will take place in person at Hope & Main.  The class size is limited; please respect others by staying home if you are sick or experiencing symptoms.
URL:https://www.makefoodyourbusiness.org/event/food-safety-manager-certification-servsafe/2026-06-09/
LOCATION:Hope & Main 691 Main St\, Warren\, RI\, United States
ATTACH;FMTTYPE=image/jpeg:https://www.makefoodyourbusiness.org/wp-content/uploads/2024/11/cooking-fish-cakes-small.jpeg
END:VEVENT
BEGIN:VEVENT
DTSTART;TZID=UTC:20260811T080000
DTEND;TZID=UTC:20260811T170000
DTSTAMP:20260425T160025
CREATED:20241118T170820Z
LAST-MODIFIED:20260401T153603Z
UID:10000463-1786435200-1786467600@www.makefoodyourbusiness.org
SUMMARY:Food Safety Manager Certification (ServSafe) 2026
DESCRIPTION:Our ServSafe Food Safety Manager certification class is an 8-hour course designed to teach kitchen users how to properly produce food in a manner that is safe for public consumption. This course culminates with a competency exam and certification upon passing. \nThis certification is ideal for individuals working in food service management\, and is required for Hope & Main membership. \nCLICK HERE TO REGISTER \nOpen to public. Admission includes book. Please bring a laptop to class for the exam portion of the course.  This event will take place in person at Hope & Main.  The class size is limited; please respect others by staying home if you are sick or experiencing symptoms.
URL:https://www.makefoodyourbusiness.org/event/food-safety-manager-certification-servsafe/2026-08-11/
LOCATION:Hope & Main 691 Main St\, Warren\, RI\, United States
ATTACH;FMTTYPE=image/jpeg:https://www.makefoodyourbusiness.org/wp-content/uploads/2024/11/cooking-fish-cakes-small.jpeg
END:VEVENT
BEGIN:VEVENT
DTSTART;TZID=UTC:20260915T080000
DTEND;TZID=UTC:20260915T170000
DTSTAMP:20260425T160025
CREATED:20241118T170820Z
LAST-MODIFIED:20260401T153603Z
UID:10000464-1789459200-1789491600@www.makefoodyourbusiness.org
SUMMARY:Food Safety Manager Certification (ServSafe) 2026
DESCRIPTION:Our ServSafe Food Safety Manager certification class is an 8-hour course designed to teach kitchen users how to properly produce food in a manner that is safe for public consumption. This course culminates with a competency exam and certification upon passing. \nThis certification is ideal for individuals working in food service management\, and is required for Hope & Main membership. \nCLICK HERE TO REGISTER \nOpen to public. Admission includes book. Please bring a laptop to class for the exam portion of the course.  This event will take place in person at Hope & Main.  The class size is limited; please respect others by staying home if you are sick or experiencing symptoms.
URL:https://www.makefoodyourbusiness.org/event/food-safety-manager-certification-servsafe/2026-09-15/
LOCATION:Hope & Main 691 Main St\, Warren\, RI\, United States
ATTACH;FMTTYPE=image/jpeg:https://www.makefoodyourbusiness.org/wp-content/uploads/2024/11/cooking-fish-cakes-small.jpeg
END:VEVENT
BEGIN:VEVENT
DTSTART;TZID=UTC:20261013T080000
DTEND;TZID=UTC:20261013T170000
DTSTAMP:20260425T160025
CREATED:20241118T170820Z
LAST-MODIFIED:20260401T153603Z
UID:10000465-1791878400-1791910800@www.makefoodyourbusiness.org
SUMMARY:Food Safety Manager Certification (ServSafe) 2026
DESCRIPTION:Our ServSafe Food Safety Manager certification class is an 8-hour course designed to teach kitchen users how to properly produce food in a manner that is safe for public consumption. This course culminates with a competency exam and certification upon passing. \nThis certification is ideal for individuals working in food service management\, and is required for Hope & Main membership. \nCLICK HERE TO REGISTER \nOpen to public. Admission includes book. Please bring a laptop to class for the exam portion of the course.  This event will take place in person at Hope & Main.  The class size is limited; please respect others by staying home if you are sick or experiencing symptoms.
URL:https://www.makefoodyourbusiness.org/event/food-safety-manager-certification-servsafe/2026-10-13/
LOCATION:Hope & Main 691 Main St\, Warren\, RI\, United States
ATTACH;FMTTYPE=image/jpeg:https://www.makefoodyourbusiness.org/wp-content/uploads/2024/11/cooking-fish-cakes-small.jpeg
END:VEVENT
BEGIN:VEVENT
DTSTART;TZID=UTC:20261110T080000
DTEND;TZID=UTC:20261110T170000
DTSTAMP:20260425T160025
CREATED:20241118T170820Z
LAST-MODIFIED:20260401T153603Z
UID:10000466-1794297600-1794330000@www.makefoodyourbusiness.org
SUMMARY:Food Safety Manager Certification (ServSafe) 2026
DESCRIPTION:Our ServSafe Food Safety Manager certification class is an 8-hour course designed to teach kitchen users how to properly produce food in a manner that is safe for public consumption. This course culminates with a competency exam and certification upon passing. \nThis certification is ideal for individuals working in food service management\, and is required for Hope & Main membership. \nCLICK HERE TO REGISTER \nOpen to public. Admission includes book. Please bring a laptop to class for the exam portion of the course.  This event will take place in person at Hope & Main.  The class size is limited; please respect others by staying home if you are sick or experiencing symptoms.
URL:https://www.makefoodyourbusiness.org/event/food-safety-manager-certification-servsafe/2026-11-10/
LOCATION:Hope & Main 691 Main St\, Warren\, RI\, United States
ATTACH;FMTTYPE=image/jpeg:https://www.makefoodyourbusiness.org/wp-content/uploads/2024/11/cooking-fish-cakes-small.jpeg
END:VEVENT
END:VCALENDAR